

BEGIN:VCALENDAR
VERSION:2.0
PRODID:-//UDC Suisse //NONSGML Events //EN
CALSCALE:GREGORIAN
X-WR-CALNAME:UDC Suisse
BEGIN:VEVENT
CREATED:20230614T064325Z
UID:114302
DTEND:20230713T190000
DTSTART:20230713T183000
DTSTAMP:20260420T193941Z
LOCATION:Restaurant Krone\, Wetzikon
DESCRIPTION:
SUMMARY:UDC proche de vous avec le conseiller national Benjamin Fischer
ORGANIZER:
URL;VALUE=URI:https://www.udc.ch/actualites/agenda/udc-proche-de-vous-avec-le-conseiller-national-benjamin-fischer/
TRANSP:OPAQUE
END:VEVENT
END:VCALENDAR
