

BEGIN:VCALENDAR
VERSION:2.0
PRODID:-//UDC Suisse //NONSGML Events //EN
CALSCALE:GREGORIAN
X-WR-CALNAME:UDC Suisse
BEGIN:VEVENT
CREATED:20230614T064326Z
UID:114303
DTEND:20230704T190000
DTSTART:20230704T183000
DTSTAMP:20260421T111742Z
LOCATION:Rest. Hotel Neufeld\, Friesenbergstrasse 15\, Zürich
DESCRIPTION:
SUMMARY:UDC proche de vous avec le conseiller national Mauro Tuena\, Gregor Rutz et Alfred Heer
ORGANIZER:
URL;VALUE=URI:https://www.udc.ch/actualites/agenda/udc-proche-de-vous-avec-le-conseiller-national-mauro-tuena-gregor-rutz-und-alfred-heer/
TRANSP:OPAQUE
END:VEVENT
END:VCALENDAR
