

BEGIN:VCALENDAR
VERSION:2.0
PRODID:-//UDC Suisse //NONSGML Events //EN
CALSCALE:GREGORIAN
X-WR-CALNAME:UDC Suisse
BEGIN:VEVENT
CREATED:20230614T064326Z
UID:114304
DTEND:20230621T200000
DTSTART:20230621T190000
DTSTAMP:20260423T090801Z
LOCATION:Restaurant Rössli Seen\, Winterthur
DESCRIPTION:
SUMMARY:UDC proche de vous avec le conseiller national Alfred Heer\, Thomas Matter et la conseillère nationale Therese Schläpfer
ORGANIZER:
URL;VALUE=URI:https://www.udc.ch/actualites/agenda/udc-proche-de-vous-avec-le-conseiller-national-alfred-heer-thomas-matter-und-la-conseillere-nationale-therese-schlapfer/
TRANSP:OPAQUE
END:VEVENT
END:VCALENDAR
