

BEGIN:VCALENDAR
VERSION:2.0
PRODID:-//UDC Suisse //NONSGML Events //EN
CALSCALE:GREGORIAN
X-WR-CALNAME:UDC Suisse
BEGIN:VEVENT
CREATED:20230614T064326Z
UID:114305
DTEND:20230713T190000
DTSTART:20230713T183000
DTSTAMP:20260421T042428Z
LOCATION:Restaurant Krone\, Bahnhofstrasse 163\, Wetzikon
DESCRIPTION:
SUMMARY:UDC proche de vous avec la conseillère nationale Therese Schläpfer
ORGANIZER:
URL;VALUE=URI:https://www.udc.ch/actualites/agenda/udc-proche-de-vous-avec-la-conseillere-nationale-therese-schlapfer/
TRANSP:OPAQUE
END:VEVENT
END:VCALENDAR
