

BEGIN:VCALENDAR
VERSION:2.0
PRODID:-//UDC Suisse //NONSGML Events //EN
CALSCALE:GREGORIAN
X-WR-CALNAME:UDC Suisse
BEGIN:VEVENT
CREATED:20230614T064326Z
UID:114307
DTEND:20230622T190000
DTSTART:20230622T180000
DTSTAMP:20260421T131608Z
LOCATION:Schlattgut\, Schlattstrasse 67\, Herrliberg
DESCRIPTION:
SUMMARY:UDC proche de vous avec le conseiller national Thomas Matter et Gregor Rutz
ORGANIZER:
URL;VALUE=URI:https://www.udc.ch/actualites/agenda/udc-proche-de-vous-avec-le-conseiller-national-thomas-matter-und-gregor-rutz/
TRANSP:OPAQUE
END:VEVENT
END:VCALENDAR
