

BEGIN:VCALENDAR
VERSION:2.0
PRODID:-//UDC Suisse //NONSGML Events //EN
CALSCALE:GREGORIAN
X-WR-CALNAME:UDC Suisse
BEGIN:VEVENT
CREATED:20230614T064326Z
UID:114308
DTEND:20230619T200000
DTSTART:20230619T193000
DTSTAMP:20260421T004112Z
LOCATION:Kantine im Eggä\, G.-Maurer-Str. 10\, Zollikon
DESCRIPTION:
SUMMARY:UDC proche de vous avec le conseiller national Gregor Rutz
ORGANIZER:
URL;VALUE=URI:https://www.udc.ch/actualites/agenda/udc-proche-de-vous-avec-le-conseiller-national-gregor-rutz/
TRANSP:OPAQUE
END:VEVENT
END:VCALENDAR
