

BEGIN:VCALENDAR
VERSION:2.0
PRODID:-//UDC Suisse //NONSGML Events //EN
CALSCALE:GREGORIAN
X-WR-CALNAME:UDC Suisse
BEGIN:VEVENT
CREATED:20230614T064326Z
UID:114310
DTEND:20230630T200000
DTSTART:20230630T190000
DTSTAMP:20260421T061320Z
LOCATION:beim GZ Riesbach\, Seefeldstr. 93 Zürich
DESCRIPTION:
SUMMARY:UDC proche de vous avec le conseiller national Gregor Rutz
ORGANIZER:
URL;VALUE=URI:https://www.udc.ch/actualites/agenda/udc-proche-de-vous-avec-le-conseiller-national-gregor-rutz-3/
TRANSP:OPAQUE
END:VEVENT
END:VCALENDAR
