

BEGIN:VCALENDAR
VERSION:2.0
PRODID:-//UDC Suisse //NONSGML Events //EN
CALSCALE:GREGORIAN
X-WR-CALNAME:UDC Suisse
BEGIN:VEVENT
CREATED:20230614T064326Z
UID:114311
DTEND:20230702T110000
DTSTART:20230702T100000
DTSTAMP:20260421T131737Z
LOCATION:Bauernhof Buenstrasse 11\, Dübendorf
DESCRIPTION:
SUMMARY:UDC proche de vous avec le conseiller national Gregor Rutz
ORGANIZER:
URL;VALUE=URI:https://www.udc.ch/actualites/agenda/udc-proche-de-vous-avec-le-conseiller-national-gregor-rutz-4/
TRANSP:OPAQUE
END:VEVENT
END:VCALENDAR
