

BEGIN:VCALENDAR
VERSION:2.0
PRODID:-//UDC Suisse //NONSGML Events //EN
CALSCALE:GREGORIAN
X-WR-CALNAME:UDC Suisse
BEGIN:VEVENT
CREATED:20230713T053249Z
UID:116676
DTEND:20230801T190000
DTSTART:20230801T183000
DTSTAMP:20260420T190318Z
LOCATION:Parc de la Mairie de Vandoeuvres
DESCRIPTION:la partie officielle commence à 21:00 heure. Programme (PDF)
SUMMARY:Fête National avec la Conseillère nationale Céline Amaudruz
ORGANIZER:
URL;VALUE=URI:https://www.udc.ch/actualites/agenda/fete-national-avec-la-conseillere-nationale-celine-amaudruz/
TRANSP:OPAQUE
END:VEVENT
END:VCALENDAR
