

BEGIN:VCALENDAR
VERSION:2.0
PRODID:-//UDC Suisse //NONSGML Events //EN
CALSCALE:GREGORIAN
X-WR-CALNAME:UDC Suisse
BEGIN:VEVENT
CREATED:20230714T080105Z
UID:116988
DTEND:20230801T110000
DTSTART:20230801T090000
DTSTAMP:20260420T134757Z
LOCATION:Swissminiatur\, 6415 Melide
DESCRIPTION:
SUMMARY:Fête du 1er août avec le conseiller fédéral Albert Rösti\, le conseiller aux Etats Marco Chiesa et le conseiller national Piero Marchesi
ORGANIZER:
URL;VALUE=URI:https://www.udc.ch/actualites/agenda/fete-du-1er-aout-avec-le-conseiller-federal-albert-rosti-le-conseiller-aux-etats-marco-chiesa-et-le-conseiller-national-piero-marchesi/
TRANSP:OPAQUE
END:VEVENT
END:VCALENDAR
