

BEGIN:VCALENDAR
VERSION:2.0
PRODID:-//UDC Suisse //NONSGML Events //EN
CALSCALE:GREGORIAN
X-WR-CALNAME:UDC Suisse
BEGIN:VEVENT
CREATED:20230714T080105Z
UID:116990
DTEND:20230801T200000
DTSTART:20230801T190000
DTSTAMP:20260420T230303Z
LOCATION:Mehrzweckhalle\, 4584 Lüterswil-Gächliwil
DESCRIPTION:
SUMMARY:Fête du 1er août avec le conseiller fédéral Albert Rösti
ORGANIZER:
URL;VALUE=URI:https://www.udc.ch/actualites/agenda/fete-du-1er-aout-avec-le-conseiller-federal-albert-rosti-2/
TRANSP:OPAQUE
END:VEVENT
END:VCALENDAR
