

BEGIN:VCALENDAR
VERSION:2.0
PRODID:-//UDC Suisse //NONSGML Events //EN
CALSCALE:GREGORIAN
X-WR-CALNAME:UDC Suisse
BEGIN:VEVENT
CREATED:20230714T080105Z
UID:116991
DTEND:20230801T130000
DTSTART:20230801T090000
DTSTAMP:20260423T090856Z
LOCATION:Alp Seeweid Bauernbrunch\, 1716 Schwarzsee
DESCRIPTION:
SUMMARY:Fête du 1er août avec le conseiller fédéral Guy Parmelin
ORGANIZER:
URL;VALUE=URI:https://www.udc.ch/actualites/agenda/fete-du-1er-aout-avec-le-conseiller-federal-guy-parmelin/
TRANSP:OPAQUE
END:VEVENT
END:VCALENDAR
