

BEGIN:VCALENDAR
VERSION:2.0
PRODID:-//UDC Suisse //NONSGML Events //EN
CALSCALE:GREGORIAN
X-WR-CALNAME:UDC Suisse
BEGIN:VEVENT
CREATED:20230714T080106Z
UID:116992
DTEND:20230801T223000
DTSTART:20230801T180000
DTSTAMP:20260420T193858Z
LOCATION:Place d’Armes à Cully (cérémonie officielle)\, 1096 Cully
DESCRIPTION:Inscription pour la croisière et programme: 1er août à Bourg-en-Lav
SUMMARY:Fête du 1er août avec le conseiller fédéral Guy Parmelin
ORGANIZER:
URL;VALUE=URI:https://www.udc.ch/actualites/agenda/fete-du-1er-aout-avec-le-conseiller-federal-guy-parmelin-2/
TRANSP:OPAQUE
END:VEVENT
END:VCALENDAR
