

BEGIN:VCALENDAR
VERSION:2.0
PRODID:-//UDC Suisse //NONSGML Events //EN
CALSCALE:GREGORIAN
X-WR-CALNAME:UDC Suisse
BEGIN:VEVENT
CREATED:20230714T080106Z
UID:116994
DTEND:20230801T190000
DTSTART:20230801T183000
DTSTAMP:20260420T230223Z
LOCATION:Parc de la Mairie de Vandoeuvres
DESCRIPTION:ab 18:30 Uhr (Festrede ab 21:00 Uhr)
SUMMARY:Fête du 1er août avec la conseillère national Céline Amaudruz
ORGANIZER:
URL;VALUE=URI:https://www.udc.ch/actualites/agenda/fete-du-1er-aout-avec-la-conseillere-national-celine-amaudruz/
TRANSP:OPAQUE
END:VEVENT
END:VCALENDAR
