

BEGIN:VCALENDAR
VERSION:2.0
PRODID:-//UDC Suisse //NONSGML Events //EN
CALSCALE:GREGORIAN
X-WR-CALNAME:UDC Suisse
BEGIN:VEVENT
CREATED:20230714T080106Z
UID:116995
DTEND:20230801T140000
DTSTART:20230801T130000
DTSTAMP:20260420T191337Z
LOCATION:Schulhausplatz Gansingen\, 5257 Gansingen
DESCRIPTION:13.00 Uhr Alphorngruppe, 13.15 Uhr Halbfinale (Kubb), ab 13:45 spiel
SUMMARY:Fête du 1er août avec la conseillère national Martina Bircher
ORGANIZER:
URL;VALUE=URI:https://www.udc.ch/actualites/agenda/fete-du-1er-aout-avec-la-conseillere-national-martina-bircher/
TRANSP:OPAQUE
END:VEVENT
END:VCALENDAR
