

BEGIN:VCALENDAR
VERSION:2.0
PRODID:-//UDC Suisse //NONSGML Events //EN
CALSCALE:GREGORIAN
X-WR-CALNAME:UDC Suisse
BEGIN:VEVENT
CREATED:20230714T080106Z
UID:116996
DTEND:20230731T160000
DTSTART:20230731T151000
DTSTAMP:20260420T194518Z
LOCATION:Tell-Arena\, 3800 Matten/Interlaken
DESCRIPTION:
SUMMARY:Fête du 1er août avec le anc. conseiller fédéral Christoph Blocher
ORGANIZER:
URL;VALUE=URI:https://www.udc.ch/actualites/agenda/fete-du-1er-aout-avec-le-anc-conseiller-federal-christoph-blocher/
TRANSP:OPAQUE
END:VEVENT
END:VCALENDAR
