

BEGIN:VCALENDAR
VERSION:2.0
PRODID:-//UDC Suisse //NONSGML Events //EN
CALSCALE:GREGORIAN
X-WR-CALNAME:UDC Suisse
BEGIN:VEVENT
CREATED:20230714T080106Z
UID:116997
DTEND:20230801T170000
DTSTART:20230801T164500
DTSTAMP:20260420T172215Z
LOCATION:Place de fête du challenge UJGDV\, 1416 Pailly
DESCRIPTION:
SUMMARY:Fête du 1er août avec le conseiller national Michaël Buffat
ORGANIZER:
URL;VALUE=URI:https://www.udc.ch/actualites/agenda/fete-du-1er-aout-avec-le-conseiller-national-michael-buffat/
TRANSP:OPAQUE
END:VEVENT
END:VCALENDAR
