

BEGIN:VCALENDAR
VERSION:2.0
PRODID:-//UDC Suisse //NONSGML Events //EN
CALSCALE:GREGORIAN
X-WR-CALNAME:UDC Suisse
BEGIN:VEVENT
CREATED:20230714T080106Z
UID:116998
DTEND:20230801T230000
DTSTART:20230801T190000
DTSTAMP:20260420T230253Z
LOCATION:Capannone sulla piazza\, 6781 Villa Bedretto
DESCRIPTION:
SUMMARY:Fête du 1er août avec le conseiller aux Etats Marco Chiesa
ORGANIZER:
URL;VALUE=URI:https://www.udc.ch/actualites/agenda/fete-du-1er-aout-avec-le-conseiller-aux-etats-marco-chiesa-2/
TRANSP:OPAQUE
END:VEVENT
END:VCALENDAR
