

BEGIN:VCALENDAR
VERSION:2.0
PRODID:-//UDC Suisse //NONSGML Events //EN
CALSCALE:GREGORIAN
X-WR-CALNAME:UDC Suisse
BEGIN:VEVENT
CREATED:20230714T080107Z
UID:116999
DTEND:20230801T210000
DTSTART:20230801T200000
DTSTAMP:20260421T042704Z
LOCATION:Grosser Parkplatz bei Hotel Roggenlodge\, 8843 Oberiberg
DESCRIPTION:
SUMMARY:Fête du 1er août avec le conseiller national Marcel Dettling
ORGANIZER:
URL;VALUE=URI:https://www.udc.ch/actualites/agenda/fete-du-1er-aout-avec-le-conseiller-national-marcel-dettling-3/
TRANSP:OPAQUE
END:VEVENT
END:VCALENDAR
