

BEGIN:VCALENDAR
VERSION:2.0
PRODID:-//UDC Suisse //NONSGML Events //EN
CALSCALE:GREGORIAN
X-WR-CALNAME:UDC Suisse
BEGIN:VEVENT
CREATED:20230714T080107Z
UID:117000
DTEND:20230731T210000
DTSTART:20230731T203000
DTSTAMP:20260421T042413Z
LOCATION:Festplatz bei der Primarschule\, 9246 Niederbüren
DESCRIPTION:
SUMMARY:Fête du 1er août avec le conseiller national Mike Egger
ORGANIZER:
URL;VALUE=URI:https://www.udc.ch/actualites/agenda/fete-du-1er-aout-avec-le-conseiller-national-mike-egger/
TRANSP:OPAQUE
END:VEVENT
END:VCALENDAR
