

BEGIN:VCALENDAR
VERSION:2.0
PRODID:-//UDC Suisse //NONSGML Events //EN
CALSCALE:GREGORIAN
X-WR-CALNAME:UDC Suisse
BEGIN:VEVENT
CREATED:20230714T080107Z
UID:117001
DTEND:20230801T180000
DTSTART:20230801T173000
DTSTAMP:20260421T062344Z
LOCATION:Seeplatz in Staad\, gleich bei Hauptstrasse 55
DESCRIPTION:
SUMMARY:Fête du 1er août avec le conseiller national Mike Egger
ORGANIZER:
URL;VALUE=URI:https://www.udc.ch/actualites/agenda/fete-du-1er-aout-avec-le-conseiller-national-mike-egger-2/
TRANSP:OPAQUE
END:VEVENT
END:VCALENDAR
