

BEGIN:VCALENDAR
VERSION:2.0
PRODID:-//UDC Suisse //NONSGML Events //EN
CALSCALE:GREGORIAN
X-WR-CALNAME:UDC Suisse
BEGIN:VEVENT
CREATED:20230714T080107Z
UID:117002
DTEND:20230731T190000
DTSTART:20230731T180000
DTSTAMP:20260420T194648Z
LOCATION:Hof der Familie Weiss\, Dachenmasstrasse\,
DESCRIPTION:
SUMMARY:Fête du 1er août avec le conseiller national Benjamin Fischer
ORGANIZER:
URL;VALUE=URI:https://www.udc.ch/actualites/agenda/fete-du-1er-aout-avec-le-conseiller-national-benjamin-fischer/
TRANSP:OPAQUE
END:VEVENT
END:VCALENDAR
