

BEGIN:VCALENDAR
VERSION:2.0
PRODID:-//UDC Suisse //NONSGML Events //EN
CALSCALE:GREGORIAN
X-WR-CALNAME:UDC Suisse
BEGIN:VEVENT
CREATED:20230714T080108Z
UID:117005
DTEND:20230801T190000
DTSTART:20230801T180000
DTSTAMP:20260420T225455Z
LOCATION:Alprestaurant Sennestubä\, Alp Tannenbodenstrasse\, 8898 Flumserberg
DESCRIPTION:
SUMMARY:Fête du 1er août avec la conseillère aux Etats Esther Friedli
ORGANIZER:
URL;VALUE=URI:https://www.udc.ch/actualites/agenda/fete-du-1er-aout-avec-la-conseillere-aux-etats-esther-friedli-2/
TRANSP:OPAQUE
END:VEVENT
END:VCALENDAR
