

BEGIN:VCALENDAR
VERSION:2.0
PRODID:-//UDC Suisse //NONSGML Events //EN
CALSCALE:GREGORIAN
X-WR-CALNAME:UDC Suisse
BEGIN:VEVENT
CREATED:20230714T080108Z
UID:117008
DTEND:20230801T210000
DTSTART:20230801T201500
DTSTAMP:20260421T145754Z
LOCATION:Schulhaus Schüppel\, 5462 Siglistorf
DESCRIPTION:
SUMMARY:Fête du 1er août avec le conseiller national Benjamin Giezendanner
ORGANIZER:
URL;VALUE=URI:https://www.udc.ch/actualites/agenda/fete-du-1er-aout-avec-le-conseiller-national-benjamin-giezendanner-3/
TRANSP:OPAQUE
END:VEVENT
END:VCALENDAR
