

BEGIN:VCALENDAR
VERSION:2.0
PRODID:-//UDC Suisse //NONSGML Events //EN
CALSCALE:GREGORIAN
X-WR-CALNAME:UDC Suisse
BEGIN:VEVENT
CREATED:20230714T080108Z
UID:117010
DTEND:20230731T220000
DTSTART:20230731T190000
DTSTAMP:20260420T172130Z
LOCATION:Dorffest mit Festwirtschaft auf Platz bei MZH\, 9327 Tübach
DESCRIPTION:
SUMMARY:Fête du 1er août avec le conseiller national Michael Götte
ORGANIZER:
URL;VALUE=URI:https://www.udc.ch/actualites/agenda/fete-du-1er-aout-avec-le-conseiller-national-michael-gotte/
TRANSP:OPAQUE
END:VEVENT
END:VCALENDAR
