

BEGIN:VCALENDAR
VERSION:2.0
PRODID:-//UDC Suisse //NONSGML Events //EN
CALSCALE:GREGORIAN
X-WR-CALNAME:UDC Suisse
BEGIN:VEVENT
CREATED:20230714T080108Z
UID:117011
DTEND:20230801T190000
DTSTART:20230801T180000
DTSTAMP:20260420T230218Z
LOCATION:Platz vor der Kapelle\, 3946 Gruben im Turtmanntal
DESCRIPTION:
SUMMARY:Fête du 1er août avec le conseiller national Michael Graber
ORGANIZER:
URL;VALUE=URI:https://www.udc.ch/actualites/agenda/fete-du-1er-aout-avec-le-conseiller-national-michael-graber/
TRANSP:OPAQUE
END:VEVENT
END:VCALENDAR
