

BEGIN:VCALENDAR
VERSION:2.0
PRODID:-//UDC Suisse //NONSGML Events //EN
CALSCALE:GREGORIAN
X-WR-CALNAME:UDC Suisse
BEGIN:VEVENT
CREATED:20230714T080109Z
UID:117013
DTEND:20230731T190000
DTSTART:20230731T183000
DTSTAMP:20260420T153309Z
LOCATION:Schützenhaus Salenstein\, an der Schützenhausstrasse\, 8268 Salenstein
DESCRIPTION:
SUMMARY:Fête du 1er août avec la conseillère national Diana Gutjahr
ORGANIZER:
URL;VALUE=URI:https://www.udc.ch/actualites/agenda/fete-du-1er-aout-avec-la-conseillere-national-diana-gutjahr/
TRANSP:OPAQUE
END:VEVENT
END:VCALENDAR
