

BEGIN:VCALENDAR
VERSION:2.0
PRODID:-//UDC Suisse //NONSGML Events //EN
CALSCALE:GREGORIAN
X-WR-CALNAME:UDC Suisse
BEGIN:VEVENT
CREATED:20230714T080109Z
UID:117014
DTEND:20230801T200000
DTSTART:20230801T193000
DTSTAMP:20260420T194415Z
LOCATION:Rheinquai\, 8253 Diessenhofen
DESCRIPTION:
SUMMARY:Fête du 1er août avec la conseillère national Diana Gutjahr
ORGANIZER:
URL;VALUE=URI:https://www.udc.ch/actualites/agenda/fete-du-1er-aout-avec-la-conseillere-national-diana-gutjahr-2/
TRANSP:OPAQUE
END:VEVENT
END:VCALENDAR
