

BEGIN:VCALENDAR
VERSION:2.0
PRODID:-//UDC Suisse //NONSGML Events //EN
CALSCALE:GREGORIAN
X-WR-CALNAME:UDC Suisse
BEGIN:VEVENT
CREATED:20230714T080109Z
UID:117015
DTEND:20230801T120000
DTSTART:20230801T110000
DTSTAMP:20260423T090734Z
LOCATION:Wiese in Aathal\, 8607 Seegräben
DESCRIPTION:
SUMMARY:Fête du 1er août avec le conseiller national Alfred Heer
ORGANIZER:
URL;VALUE=URI:https://www.udc.ch/actualites/agenda/fete-du-1er-aout-avec-le-conseiller-national-alfred-heer/
TRANSP:OPAQUE
END:VEVENT
END:VCALENDAR
