

BEGIN:VCALENDAR
VERSION:2.0
PRODID:-//UDC Suisse //NONSGML Events //EN
CALSCALE:GREGORIAN
X-WR-CALNAME:UDC Suisse
BEGIN:VEVENT
CREATED:20230714T080109Z
UID:117016
DTEND:20230801T180000
DTSTART:20230801T173000
DTSTAMP:20260420T172145Z
LOCATION:Limmatwiese (Bonächer)\, 8955 Oetwil an der Limmat
DESCRIPTION:mit Festwirtschaft, jeder Besucher bekommt Gratis eine Wurst und Brot 
SUMMARY:Fête du 1er août avec le conseiller national Alfred Heer
ORGANIZER:
URL;VALUE=URI:https://www.udc.ch/actualites/agenda/fete-du-1er-aout-avec-le-conseiller-national-alfred-heer-2/
TRANSP:OPAQUE
END:VEVENT
END:VCALENDAR
