

BEGIN:VCALENDAR
VERSION:2.0
PRODID:-//UDC Suisse //NONSGML Events //EN
CALSCALE:GREGORIAN
X-WR-CALNAME:UDC Suisse
BEGIN:VEVENT
CREATED:20230714T080109Z
UID:117017
DTEND:20230731T200000
DTSTART:20230731T193000
DTSTAMP:20260421T023914Z
LOCATION:Beim Gemeindezentrum Arch\, 3296 Arch
DESCRIPTION:
SUMMARY:Fête du 1er août avec le conseiller national Erich Hess
ORGANIZER:
URL;VALUE=URI:https://www.udc.ch/actualites/agenda/fete-du-1er-aout-avec-le-conseiller-national-erich-hess/
TRANSP:OPAQUE
END:VEVENT
END:VCALENDAR
