

BEGIN:VCALENDAR
VERSION:2.0
PRODID:-//UDC Suisse //NONSGML Events //EN
CALSCALE:GREGORIAN
X-WR-CALNAME:UDC Suisse
BEGIN:VEVENT
CREATED:20230714T080109Z
UID:117018
DTEND:20230801T120000
DTSTART:20230801T110000
DTSTAMP:20260420T172230Z
LOCATION:Im Städchen\, 8213 Neunkirch
DESCRIPTION:
SUMMARY:Fête du 1er août avec le conseiller national Thomas Hurter
ORGANIZER:
URL;VALUE=URI:https://www.udc.ch/actualites/agenda/fete-du-1er-aout-avec-le-conseiller-national-thomas-hurter/
TRANSP:OPAQUE
END:VEVENT
END:VCALENDAR
