

BEGIN:VCALENDAR
VERSION:2.0
PRODID:-//UDC Suisse //NONSGML Events //EN
CALSCALE:GREGORIAN
X-WR-CALNAME:UDC Suisse
BEGIN:VEVENT
CREATED:20230714T080109Z
UID:117019
DTEND:20230801T220000
DTSTART:20230801T211500
DTSTAMP:20260420T230238Z
LOCATION:Prato asilo\, 6997 Sessa
DESCRIPTION:Festa de Comune die Tresa www.udc-ti.ch
SUMMARY:Fête du 1er août avec le conseiller national Piero Marchesi
ORGANIZER:
URL;VALUE=URI:https://www.udc.ch/actualites/agenda/fete-du-1er-aout-avec-le-conseiller-national-piero-marchesi-2/
TRANSP:OPAQUE
END:VEVENT
END:VCALENDAR
