

BEGIN:VCALENDAR
VERSION:2.0
PRODID:-//UDC Suisse //NONSGML Events //EN
CALSCALE:GREGORIAN
X-WR-CALNAME:UDC Suisse
BEGIN:VEVENT
CREATED:20230714T080109Z
UID:117020
DTEND:20230801T120000
DTSTART:20230801T110000
DTSTAMP:20260420T191602Z
LOCATION:ehem. Militärflugplatz San Vittore\, 6534 San Vittore
DESCRIPTION:
SUMMARY:Fête du 1er août avec la conseillère national Magdalena Martullo-Blocher
ORGANIZER:
URL;VALUE=URI:https://www.udc.ch/actualites/agenda/fete-du-1er-aout-avec-la-conseillere-national-magdalena-martullo-blocher/
TRANSP:OPAQUE
END:VEVENT
END:VCALENDAR
