

BEGIN:VCALENDAR
VERSION:2.0
PRODID:-//UDC Suisse //NONSGML Events //EN
CALSCALE:GREGORIAN
X-WR-CALNAME:UDC Suisse
BEGIN:VEVENT
CREATED:20230714T080109Z
UID:117022
DTEND:20230731T200000
DTSTART:20230731T190000
DTSTAMP:20260421T094326Z
LOCATION:Festplatz auf dem freien Feld\, zwischen Dozwil und Uttwil Richtung See
DESCRIPTION:
SUMMARY:Fête du 1er août avec le conseiller national Thomas Matter
ORGANIZER:
URL;VALUE=URI:https://www.udc.ch/actualites/agenda/fete-du-1er-aout-avec-le-conseiller-national-thomas-matter-2/
TRANSP:OPAQUE
END:VEVENT
END:VCALENDAR
