

BEGIN:VCALENDAR
VERSION:2.0
PRODID:-//UDC Suisse //NONSGML Events //EN
CALSCALE:GREGORIAN
X-WR-CALNAME:UDC Suisse
BEGIN:VEVENT
CREATED:20230714T080109Z
UID:117024
DTEND:20230801T210000
DTSTART:20230801T200000
DTSTAMP:20260420T114703Z
LOCATION:Zelt FC-Hüttli\, 8618 Oetwil am See
DESCRIPTION:
SUMMARY:Fête du 1er août avec le conseiller national Thomas Matter
ORGANIZER:
URL;VALUE=URI:https://www.udc.ch/actualites/agenda/fete-du-1er-aout-avec-le-conseiller-national-thomas-matter-4/
TRANSP:OPAQUE
END:VEVENT
END:VCALENDAR
