

BEGIN:VCALENDAR
VERSION:2.0
PRODID:-//UDC Suisse //NONSGML Events //EN
CALSCALE:GREGORIAN
X-WR-CALNAME:UDC Suisse
BEGIN:VEVENT
CREATED:20230714T080109Z
UID:117025
DTEND:20230801T210000
DTSTART:20230801T190000
DTSTAMP:20260421T113042Z
LOCATION:Place de Fête Au village\, 1987 Hérémence (VS)
DESCRIPTION:
SUMMARY:Fête du 1er août avec le conseiller national Pierre André Page
ORGANIZER:
URL;VALUE=URI:https://www.udc.ch/actualites/agenda/fete-du-1er-aout-avec-le-conseiller-national-pierre-andre-page-4/
TRANSP:OPAQUE
END:VEVENT
END:VCALENDAR
