

BEGIN:VCALENDAR
VERSION:2.0
PRODID:-//UDC Suisse //NONSGML Events //EN
CALSCALE:GREGORIAN
X-WR-CALNAME:UDC Suisse
BEGIN:VEVENT
CREATED:20230714T080111Z
UID:117028
DTEND:20230801T180000
DTSTART:20230801T170000
DTSTAMP:20260420T114713Z
LOCATION:Dorfplatz Teufen\, Alte Landstrasse\, 8428 Teufen
DESCRIPTION:
SUMMARY:Fête du 1er août avec le conseiller national Gregor Rutz
ORGANIZER:
URL;VALUE=URI:https://www.udc.ch/actualites/agenda/fete-du-1er-aout-avec-le-conseiller-national-gregor-rutz-4/
TRANSP:OPAQUE
END:VEVENT
END:VCALENDAR
