

BEGIN:VCALENDAR
VERSION:2.0
PRODID:-//UDC Suisse //NONSGML Events //EN
CALSCALE:GREGORIAN
X-WR-CALNAME:UDC Suisse
BEGIN:VEVENT
CREATED:20230714T080111Z
UID:117029
DTEND:20230731T220000
DTSTART:20230731T190000
DTSTAMP:20260421T041141Z
LOCATION:Schulhaus Krauchtal\, Eggen 17\, 3326 Krauchthal
DESCRIPTION:
SUMMARY:Fête du 1er août avec le conseiller aux Etats Werner Salzmann
ORGANIZER:
URL;VALUE=URI:https://www.udc.ch/actualites/agenda/fete-du-1er-aout-avec-le-conseiller-aux-etats-werner-salzmann-3/
TRANSP:OPAQUE
END:VEVENT
END:VCALENDAR
