

BEGIN:VCALENDAR
VERSION:2.0
PRODID:-//UDC Suisse //NONSGML Events //EN
CALSCALE:GREGORIAN
X-WR-CALNAME:UDC Suisse
BEGIN:VEVENT
CREATED:20230714T080111Z
UID:117030
DTEND:20230801T140000
DTSTART:20230801T110000
DTSTAMP:20260421T094841Z
LOCATION:auf dem Brunnenplatz in Lengnau \, 4523 Lengnau
DESCRIPTION:
SUMMARY:Fête du 1er août avec le conseiller aux Etats Werner Salzmann
ORGANIZER:
URL;VALUE=URI:https://www.udc.ch/actualites/agenda/fete-du-1er-aout-avec-le-conseiller-aux-etats-werner-salzmann-4/
TRANSP:OPAQUE
END:VEVENT
END:VCALENDAR
