

BEGIN:VCALENDAR
VERSION:2.0
PRODID:-//UDC Suisse //NONSGML Events //EN
CALSCALE:GREGORIAN
X-WR-CALNAME:UDC Suisse
BEGIN:VEVENT
CREATED:20230714T080111Z
UID:117033
DTEND:20230801T210000
DTSTART:20230801T200000
DTSTAMP:20260421T131728Z
LOCATION:Schützenhaus\, 8523 Hagenbuch
DESCRIPTION:
SUMMARY:Fête du 1er août avec la conseillère national Therese Schläpfer
ORGANIZER:
URL;VALUE=URI:https://www.udc.ch/actualites/agenda/fete-du-1er-aout-avec-la-conseillere-national-therese-schlapfer-2/
TRANSP:OPAQUE
END:VEVENT
END:VCALENDAR
