

BEGIN:VCALENDAR
VERSION:2.0
PRODID:-//UDC Suisse //NONSGML Events //EN
CALSCALE:GREGORIAN
X-WR-CALNAME:UDC Suisse
BEGIN:VEVENT
CREATED:20230714T080111Z
UID:117034
DTEND:20230801T210000
DTSTART:20230801T200000
DTSTAMP:20260420T114653Z
LOCATION:Schulhausplatz Sonterswil\, 8564 Hefenhofen Wäldi
DESCRIPTION:
SUMMARY:Fête du 1er août avec le conseiller aux Etats Dr. Jakob Stark
ORGANIZER:
URL;VALUE=URI:https://www.udc.ch/actualites/agenda/fete-du-1er-aout-avec-le-conseiller-aux-etats-dr-jakob-stark/
TRANSP:OPAQUE
END:VEVENT
END:VCALENDAR
