

BEGIN:VCALENDAR
VERSION:2.0
PRODID:-//UDC Suisse //NONSGML Events //EN
CALSCALE:GREGORIAN
X-WR-CALNAME:UDC Suisse
BEGIN:VEVENT
CREATED:20230714T080112Z
UID:117035
DTEND:20230801T190000
DTSTART:20230801T183000
DTSTAMP:20260420T114718Z
LOCATION:Beim Schützenhaus Wasterkingen \, 8195 Wasterkingen ZH
DESCRIPTION:
SUMMARY:Fête du 1er août avec la conseillère national Barbara Steinemann
ORGANIZER:
URL;VALUE=URI:https://www.udc.ch/actualites/agenda/fete-du-1er-aout-avec-la-conseillere-national-barbara-steinemann/
TRANSP:OPAQUE
END:VEVENT
END:VCALENDAR
