

BEGIN:VCALENDAR
VERSION:2.0
PRODID:-//UDC Suisse //NONSGML Events //EN
CALSCALE:GREGORIAN
X-WR-CALNAME:UDC Suisse
BEGIN:VEVENT
CREATED:20230714T080112Z
UID:117036
DTEND:20230801T110000
DTSTART:20230801T100000
DTSTAMP:20260421T004354Z
LOCATION:Brunch auf dem eigenen Bauernhof\, 8570 Weinfelden
DESCRIPTION:
SUMMARY:Fête du 1er août avec le conseiller national Manuel Strupler
ORGANIZER:
URL;VALUE=URI:https://www.udc.ch/actualites/agenda/fete-du-1er-aout-avec-le-conseiller-national-manuel-strupler/
TRANSP:OPAQUE
END:VEVENT
END:VCALENDAR
