

BEGIN:VCALENDAR
VERSION:2.0
PRODID:-//UDC Suisse //NONSGML Events //EN
CALSCALE:GREGORIAN
X-WR-CALNAME:UDC Suisse
BEGIN:VEVENT
CREATED:20230714T080112Z
UID:117038
DTEND:20230801T190000
DTSTART:20230801T180000
DTSTAMP:20260421T063540Z
LOCATION:Schibistei-Platz\, 3615 Heimenschwand
DESCRIPTION:
SUMMARY:Fête du 1er août avec la conseillère national Nadja Umbricht Pieren
ORGANIZER:
URL;VALUE=URI:https://www.udc.ch/actualites/agenda/fete-du-1er-aout-avec-la-conseillere-national-nadja-umbricht-pieren/
TRANSP:OPAQUE
END:VEVENT
END:VCALENDAR
