

BEGIN:VCALENDAR
VERSION:2.0
PRODID:-//UDC Suisse //NONSGML Events //EN
CALSCALE:GREGORIAN
X-WR-CALNAME:UDC Suisse
BEGIN:VEVENT
CREATED:20230714T080112Z
UID:117039
DTEND:20230801T210000
DTSTART:20230801T200000
DTSTAMP:20260420T114503Z
LOCATION:im Pavillon oder im Landhaus\, 3792 Saanen
DESCRIPTION:Bei gutem Wetter im Pavillon, bei schlechtem Wetter im Landhaus
SUMMARY:Fête du 1er août avec le conseiller national Erich von Siebenthal-Glauser
ORGANIZER:
URL;VALUE=URI:https://www.udc.ch/actualites/agenda/fete-du-1er-aout-avec-le-conseiller-national-erich-von-siebenthal-glauser/
TRANSP:OPAQUE
END:VEVENT
END:VCALENDAR
