

BEGIN:VCALENDAR
VERSION:2.0
PRODID:-//UDC Suisse //NONSGML Events //EN
CALSCALE:GREGORIAN
X-WR-CALNAME:UDC Suisse
BEGIN:VEVENT
CREATED:20230714T080112Z
UID:117041
DTEND:20230801T180000
DTSTART:20230801T170000
DTSTAMP:20260421T004409Z
LOCATION:Sportplatz Feld\, 9107 Urnäsch
DESCRIPTION:
SUMMARY:Fête du 1er août avec le conseiller national David Zuberbühler
ORGANIZER:
URL;VALUE=URI:https://www.udc.ch/actualites/agenda/fete-du-1er-aout-avec-le-conseiller-national-david-zuberbuhler/
TRANSP:OPAQUE
END:VEVENT
END:VCALENDAR
