

BEGIN:VCALENDAR
VERSION:2.0
PRODID:-//UDC Suisse //NONSGML Events //EN
CALSCALE:GREGORIAN
X-WR-CALNAME:UDC Suisse
BEGIN:VEVENT
CREATED:20230714T080112Z
UID:117042
DTEND:20230731T190000
DTSTART:20230731T183000
DTSTAMP:20260421T094811Z
LOCATION:Areal des Reitvereins Holziken oder Mehrzweckhalle\, 5043 Holziken
DESCRIPTION:Schönes Wetter: Areal des Reitvereins Holziken (Adresse: Hauptstrasse
SUMMARY:Fête du 1er août avec le conseiller aux Etats Jean-Pierre Gallati
ORGANIZER:
URL;VALUE=URI:https://www.udc.ch/actualites/agenda/fete-du-1er-aout-avec-le-conseiller-aux-etats-jean-pierre-gallati/
TRANSP:OPAQUE
END:VEVENT
END:VCALENDAR
