

BEGIN:VCALENDAR
VERSION:2.0
PRODID:-//UDC Suisse //NONSGML Events //EN
CALSCALE:GREGORIAN
X-WR-CALNAME:UDC Suisse
BEGIN:VEVENT
CREATED:20230714T080112Z
UID:117043
DTEND:20230801T110000
DTSTART:20230801T100000
DTSTAMP:20260420T114453Z
LOCATION:Sportplatz Höchacker\, 5745 Safenwil
DESCRIPTION:
SUMMARY:Fête du 1er août avec le conseiller aux Etats Jean-Pierre Gallati
ORGANIZER:
URL;VALUE=URI:https://www.udc.ch/actualites/agenda/fete-du-1er-aout-avec-le-conseiller-aux-etats-jean-pierre-gallati-2/
TRANSP:OPAQUE
END:VEVENT
END:VCALENDAR
