

BEGIN:VCALENDAR
VERSION:2.0
PRODID:-//UDC Suisse //NONSGML Events //EN
CALSCALE:GREGORIAN
X-WR-CALNAME:UDC Suisse
BEGIN:VEVENT
CREATED:20230714T080113Z
UID:117044
DTEND:20230801T210000
DTSTART:20230801T200000
DTSTAMP:20260420T114628Z
LOCATION:Im Tägerli\, 5614 Sarmenstorf
DESCRIPTION:
SUMMARY:Fête du 1er août avec le conseiller aux Etats Jean-Pierre Gallati
ORGANIZER:
URL;VALUE=URI:https://www.udc.ch/actualites/agenda/fete-du-1er-aout-avec-le-conseiller-aux-etats-jean-pierre-gallati-3/
TRANSP:OPAQUE
END:VEVENT
END:VCALENDAR
